BEGIN:VCALENDAR
VERSION:2.0
PRODID:-//Immaculate Heart of Mary Parish - ECPv6.15.20//NONSGML v1.0//EN
CALSCALE:GREGORIAN
METHOD:PUBLISH
X-WR-CALNAME:Immaculate Heart of Mary Parish
X-ORIGINAL-URL:https://ihmercer.org
X-WR-CALDESC:Events for Immaculate Heart of Mary Parish
REFRESH-INTERVAL;VALUE=DURATION:PT1H
X-Robots-Tag:noindex
X-PUBLISHED-TTL:PT1H
BEGIN:VTIMEZONE
TZID:America/New_York
BEGIN:DAYLIGHT
TZOFFSETFROM:-0500
TZOFFSETTO:-0400
TZNAME:EDT
DTSTART:20250309T070000
END:DAYLIGHT
BEGIN:STANDARD
TZOFFSETFROM:-0400
TZOFFSETTO:-0500
TZNAME:EST
DTSTART:20251102T060000
END:STANDARD
BEGIN:DAYLIGHT
TZOFFSETFROM:-0500
TZOFFSETTO:-0400
TZNAME:EDT
DTSTART:20260308T070000
END:DAYLIGHT
BEGIN:STANDARD
TZOFFSETFROM:-0400
TZOFFSETTO:-0500
TZNAME:EST
DTSTART:20261101T060000
END:STANDARD
BEGIN:DAYLIGHT
TZOFFSETFROM:-0500
TZOFFSETTO:-0400
TZNAME:EDT
DTSTART:20270314T070000
END:DAYLIGHT
BEGIN:STANDARD
TZOFFSETFROM:-0400
TZOFFSETTO:-0500
TZNAME:EST
DTSTART:20271107T060000
END:STANDARD
END:VTIMEZONE
BEGIN:VEVENT
DTSTART;TZID=America/New_York:20260421T080000
DTEND;TZID=America/New_York:20260421T083000
DTSTAMP:20260421T063340
CREATED:20260421T041224Z
LAST-MODIFIED:20260421T102729Z
UID:10013364-1776758400-1776760200@ihmercer.org
SUMMARY:Daily Mass
DESCRIPTION:
URL:https://ihmercer.org/calendar/daily-mass-201/
LOCATION:Immaculate Heart of Mary Church (100 Penn Ave\, Mercer\, PA  16137)
CATEGORIES:Parish Events
END:VEVENT
BEGIN:VEVENT
DTSTART;TZID=America/New_York:20260422T080000
DTEND;TZID=America/New_York:20260422T083000
DTSTAMP:20260421T063340
CREATED:20260421T041225Z
LAST-MODIFIED:20260421T102731Z
UID:10013365-1776844800-1776846600@ihmercer.org
SUMMARY:Daily Mass
DESCRIPTION:
URL:https://ihmercer.org/calendar/daily-mass-202/
LOCATION:Immaculate Heart of Mary Church (100 Penn Ave\, Mercer\, PA  16137)
CATEGORIES:Parish Events
END:VEVENT
BEGIN:VEVENT
DTSTART;TZID=America/New_York:20260423T080000
DTEND;TZID=America/New_York:20260423T083000
DTSTAMP:20260421T063340
CREATED:20260421T041226Z
LAST-MODIFIED:20260421T102734Z
UID:10013366-1776931200-1776933000@ihmercer.org
SUMMARY:Daily Mass
DESCRIPTION:
URL:https://ihmercer.org/calendar/daily-mass-203/
LOCATION:Immaculate Heart of Mary Church (100 Penn Ave\, Mercer\, PA  16137)
CATEGORIES:Parish Events
END:VEVENT
BEGIN:VEVENT
DTSTART;TZID=America/New_York:20260424T080000
DTEND;TZID=America/New_York:20260424T083000
DTSTAMP:20260421T063340
CREATED:20260421T041226Z
LAST-MODIFIED:20260421T102736Z
UID:10013367-1777017600-1777019400@ihmercer.org
SUMMARY:Daily Mass
DESCRIPTION:
URL:https://ihmercer.org/calendar/daily-mass-204/
LOCATION:Immaculate Heart of Mary Church (100 Penn Ave\, Mercer\, PA  16137)
CATEGORIES:Parish Events
END:VEVENT
BEGIN:VEVENT
DTSTART;TZID=America/New_York:20260425T150000
DTEND;TZID=America/New_York:20260425T154500
DTSTAMP:20260421T063340
CREATED:20260421T041227Z
LAST-MODIFIED:20260421T102738Z
UID:10013368-1777129200-1777131900@ihmercer.org
SUMMARY:Reconciliation
DESCRIPTION:
URL:https://ihmercer.org/calendar/reconciliation-52/
LOCATION:Immaculate Heart of Mary Church (100 Penn Ave\, Mercer\, PA  16137)
CATEGORIES:Parish Events
END:VEVENT
BEGIN:VEVENT
DTSTART;TZID=America/New_York:20260425T160000
DTEND;TZID=America/New_York:20260425T170000
DTSTAMP:20260421T063340
CREATED:20260421T041228Z
LAST-MODIFIED:20260421T102740Z
UID:10013369-1777132800-1777136400@ihmercer.org
SUMMARY:Saturday Vigil Mass
DESCRIPTION:
URL:https://ihmercer.org/calendar/saturday-vigil-mass-51/
LOCATION:Immaculate Heart of Mary Church (100 Penn Ave\, Mercer\, PA  16137)
CATEGORIES:Parish Events
END:VEVENT
BEGIN:VEVENT
DTSTART;TZID=America/New_York:20260426T080000
DTEND;TZID=America/New_York:20260426T090000
DTSTAMP:20260421T063340
CREATED:20260421T041228Z
LAST-MODIFIED:20260421T102742Z
UID:10013370-1777190400-1777194000@ihmercer.org
SUMMARY:Sunday Mass
DESCRIPTION:
URL:https://ihmercer.org/calendar/sunday-mass-101/
LOCATION:Immaculate Heart of Mary Church (100 Penn Ave\, Mercer\, PA  16137)
CATEGORIES:Parish Events
END:VEVENT
BEGIN:VEVENT
DTSTART;TZID=America/New_York:20260426T110000
DTEND;TZID=America/New_York:20260426T120000
DTSTAMP:20260421T063340
CREATED:20260421T041229Z
LAST-MODIFIED:20260421T102743Z
UID:10013371-1777201200-1777204800@ihmercer.org
SUMMARY:Sunday Mass
DESCRIPTION:
URL:https://ihmercer.org/calendar/sunday-mass-102/
CATEGORIES:Parish Events
END:VEVENT
BEGIN:VEVENT
DTSTART;TZID=America/New_York:20260428T080000
DTEND;TZID=America/New_York:20260428T083000
DTSTAMP:20260421T063340
CREATED:20260421T041229Z
LAST-MODIFIED:20260421T102745Z
UID:10013372-1777363200-1777365000@ihmercer.org
SUMMARY:Daily Mass
DESCRIPTION:
URL:https://ihmercer.org/calendar/daily-mass-205/
LOCATION:Immaculate Heart of Mary Church (100 Penn Ave\, Mercer\, PA  16137)
CATEGORIES:Parish Events
END:VEVENT
BEGIN:VEVENT
DTSTART;TZID=America/New_York:20260429T080000
DTEND;TZID=America/New_York:20260429T083000
DTSTAMP:20260421T063340
CREATED:20260421T041230Z
LAST-MODIFIED:20260421T102747Z
UID:10013373-1777449600-1777451400@ihmercer.org
SUMMARY:Daily Mass
DESCRIPTION:
URL:https://ihmercer.org/calendar/daily-mass-206/
LOCATION:Immaculate Heart of Mary Church (100 Penn Ave\, Mercer\, PA  16137)
CATEGORIES:Parish Events
END:VEVENT
BEGIN:VEVENT
DTSTART;TZID=America/New_York:20260430T080000
DTEND;TZID=America/New_York:20260430T083000
DTSTAMP:20260421T063340
CREATED:20260421T041230Z
LAST-MODIFIED:20260421T102748Z
UID:10013374-1777536000-1777537800@ihmercer.org
SUMMARY:Daily Mass
DESCRIPTION:
URL:https://ihmercer.org/calendar/daily-mass-207/
LOCATION:Immaculate Heart of Mary Church (100 Penn Ave\, Mercer\, PA  16137)
CATEGORIES:Parish Events
END:VEVENT
END:VCALENDAR